BEGIN:VCALENDAR
VERSION:2.0
PRODID:-//Iliff School of Theology - ECPv6.15.20//NONSGML v1.0//EN
CALSCALE:GREGORIAN
METHOD:PUBLISH
X-ORIGINAL-URL:https://www.iliff.edu
X-WR-CALDESC:Events for Iliff School of Theology
REFRESH-INTERVAL;VALUE=DURATION:PT1H
X-Robots-Tag:noindex
X-PUBLISHED-TTL:PT1H
BEGIN:VTIMEZONE
TZID:America/Denver
BEGIN:DAYLIGHT
TZOFFSETFROM:-0700
TZOFFSETTO:-0600
TZNAME:MDT
DTSTART:20230312T090000
END:DAYLIGHT
BEGIN:STANDARD
TZOFFSETFROM:-0600
TZOFFSETTO:-0700
TZNAME:MST
DTSTART:20231105T080000
END:STANDARD
BEGIN:DAYLIGHT
TZOFFSETFROM:-0700
TZOFFSETTO:-0600
TZNAME:MDT
DTSTART:20240310T090000
END:DAYLIGHT
BEGIN:STANDARD
TZOFFSETFROM:-0600
TZOFFSETTO:-0700
TZNAME:MST
DTSTART:20241103T080000
END:STANDARD
BEGIN:DAYLIGHT
TZOFFSETFROM:-0700
TZOFFSETTO:-0600
TZNAME:MDT
DTSTART:20250309T090000
END:DAYLIGHT
BEGIN:STANDARD
TZOFFSETFROM:-0600
TZOFFSETTO:-0700
TZNAME:MST
DTSTART:20251102T080000
END:STANDARD
END:VTIMEZONE
BEGIN:VEVENT
DTSTART;VALUE=DATE:20240205
DTEND;VALUE=DATE:20240211
DTSTAMP:20260422T085452
CREATED:20231212T193214Z
LAST-MODIFIED:20240202T210742Z
UID:47813-1707174000-1707605999@www.iliff.edu
SUMMARY:Winter Gathering Days 2024
DESCRIPTION:It’s that time! Winter Gathering Days is here! Join Iliff students\, faculty\, staff\, and friends for a week of activities starting Monday\, February 5 through Saturday\, February 10. Check out the details below for all free PUBLIC events. Please mark your calendars and we look forward to gathering with you on campus! \nPOSTPONED UNTIL FALL 2024 –– Tue. Feb. 6th\, 7:00-8:30 pm // Everding Lecture \nThur. Feb. 8th\, 6:00-7:15 pm // Big Mama Speaks: A Tulsa Race Riot Survivor’s Story\nShattuck Hall\nhttps://loom.ly/0KUWbzg \nFri. Feb. 9th\, 5:00-6:00 pm // Anglican Liturgy\nIliff Chapel\nhttps://loom.ly/DT2fTCw
URL:https://www.iliff.edu/event-calendar/winter-gathering-days/
LOCATION:Iliff School of Theology\, 2323 East Iliff Avenue\, Denver\, CO\, 80210\, United States
ATTACH;FMTTYPE=image/jpeg:https://iliff-edu.s3.amazonaws.com/wp-content/uploads/2023/12/25165039/Winter-GatheringDays-2024_Vertical-for-Instagram-Stories-1080-x-1920-copy.jpg
END:VEVENT
END:VCALENDAR